BEGIN:VCALENDAR
VERSION:2.0
PRODID:-//Sweyne Park School - ECPv6.15.20//NONSGML v1.0//EN
CALSCALE:GREGORIAN
METHOD:PUBLISH
X-ORIGINAL-URL:https://www.sweynepark.com
X-WR-CALDESC:Events for Sweyne Park School
REFRESH-INTERVAL;VALUE=DURATION:PT1H
X-Robots-Tag:noindex
X-PUBLISHED-TTL:PT1H
BEGIN:VTIMEZONE
TZID:Europe/London
BEGIN:DAYLIGHT
TZOFFSETFROM:+0000
TZOFFSETTO:+0100
TZNAME:BST
DTSTART:20230326T010000
END:DAYLIGHT
BEGIN:STANDARD
TZOFFSETFROM:+0100
TZOFFSETTO:+0000
TZNAME:GMT
DTSTART:20231029T010000
END:STANDARD
BEGIN:DAYLIGHT
TZOFFSETFROM:+0000
TZOFFSETTO:+0100
TZNAME:BST
DTSTART:20240331T010000
END:DAYLIGHT
BEGIN:STANDARD
TZOFFSETFROM:+0100
TZOFFSETTO:+0000
TZNAME:GMT
DTSTART:20241027T010000
END:STANDARD
BEGIN:DAYLIGHT
TZOFFSETFROM:+0000
TZOFFSETTO:+0100
TZNAME:BST
DTSTART:20250330T010000
END:DAYLIGHT
BEGIN:STANDARD
TZOFFSETFROM:+0100
TZOFFSETTO:+0000
TZNAME:GMT
DTSTART:20251026T010000
END:STANDARD
END:VTIMEZONE
BEGIN:VEVENT
DTSTART;TZID=Europe/London:20241002T071500
DTEND;TZID=Europe/London:20241002T160000
DTSTAMP:20260423T104344
CREATED:20240610T083800Z
LAST-MODIFIED:20240610T083800Z
UID:31699-1727853300-1727884800@www.sweynepark.com
SUMMARY:Warner Bros. Studio the Making of Harry Potter
DESCRIPTION:Click here for more information. \nTrips and Events
URL:https://www.sweynepark.com/event/warner-brosstudio-the-making-of-harry-potter/
LOCATION:Rayleigh
CATEGORIES:Archive
ATTACH;FMTTYPE=image/jpeg:https://www.sweynepark.com/wp-content/uploads/2023/07/WBHP.jpg
END:VEVENT
BEGIN:VEVENT
DTSTART;TZID=Europe/London:20241003T080000
DTEND;TZID=Europe/London:20241003T170000
DTSTAMP:20260423T104344
CREATED:20240708T080359Z
LAST-MODIFIED:20240708T080359Z
UID:31907-1727942400-1727974800@www.sweynepark.com
SUMMARY:Kids Kingdom October
DESCRIPTION:Click here for more information. \nTrips and Events
URL:https://www.sweynepark.com/event/kids-kingdom-october/
LOCATION:Rayleigh
CATEGORIES:Archive
ATTACH;FMTTYPE=image/png:https://www.sweynepark.com/wp-content/uploads/2024/05/KidKingdom.png
END:VEVENT
BEGIN:VEVENT
DTSTART;TZID=Europe/London:20241015T070000
DTEND;TZID=Europe/London:20241015T180000
DTSTAMP:20260423T104344
CREATED:20241014T081653Z
LAST-MODIFIED:20241014T082846Z
UID:32956-1728975600-1729015200@www.sweynepark.com
SUMMARY:Thorpe Park
DESCRIPTION:Click here for more information. \nTrips and Events
URL:https://www.sweynepark.com/event/thorpe-park-trip/
LOCATION:Rayleigh
CATEGORIES:Archive
ATTACH;FMTTYPE=image/jpeg:https://www.sweynepark.com/wp-content/uploads/2024/10/thorpe-park.jpg
END:VEVENT
BEGIN:VEVENT
DTSTART;TZID=Europe/London:20241023T183000
DTEND;TZID=Europe/London:20241023T200000
DTSTAMP:20260423T104344
CREATED:20240722T100737Z
LAST-MODIFIED:20241120T085427Z
UID:32022-1729708200-1729713600@www.sweynepark.com
SUMMARY:Netball Tour Attendees - Tandoori Parlour
DESCRIPTION:Click here for more information. \nTrips and Events
URL:https://www.sweynepark.com/event/netball-tour-attendees-tandoori-parlour/
LOCATION:Rayleigh
CATEGORIES:Archive
ATTACH;FMTTYPE=image/png:https://www.sweynepark.com/wp-content/uploads/2024/04/Salou-Spain-Netball.png
END:VEVENT
END:VCALENDAR